BEGIN:VCALENDAR
VERSION:2.0
PRODID:-//Airtings - ECPv6.14.2//NONSGML v1.0//EN
CALSCALE:GREGORIAN
METHOD:PUBLISH
X-ORIGINAL-URL:https://www.airtings.com
X-WR-CALDESC:Events for Airtings
REFRESH-INTERVAL;VALUE=DURATION:PT1H
X-Robots-Tag:noindex
X-PUBLISHED-TTL:PT1H
BEGIN:VTIMEZONE
TZID:UTC
BEGIN:STANDARD
TZOFFSETFROM:+0000
TZOFFSETTO:+0000
TZNAME:UTC
DTSTART:20250101T000000
END:STANDARD
END:VTIMEZONE
BEGIN:VEVENT
DTSTART;TZID=UTC:20251101T080000
DTEND;TZID=UTC:20251101T160000
DTSTAMP:20260421T124736
CREATED:20251020T182709Z
LAST-MODIFIED:20251020T182709Z
UID:990024-1761984000-1762012800@www.airtings.com
SUMMARY:Downtown Growers Market
DESCRIPTION:
URL:https://www.airtings.com/calendar/downtown-growers-market-6
LOCATION:Robinson park\, 810 Copper Ave NW\, Albuquerque\, NM\, 87102\, United States
END:VEVENT
BEGIN:VEVENT
DTSTART;TZID=UTC:20251128T160000
DTEND;TZID=UTC:20251128T200000
DTSTAMP:20260421T124736
CREATED:20250814T191019Z
LAST-MODIFIED:20251020T181418Z
UID:989997-1764345600-1764360000@www.airtings.com
SUMMARY:Winrock Wonderland Holiday Market
DESCRIPTION:A festive holiday market at Winrock Town Center featuring local vendors\, handmade gifts\, seasonal treats\, and cheerful activities for the whole family. A perfect place to shop small\, enjoy the holiday spirit\, and find unique treasures.
URL:https://www.airtings.com/calendar/winrock-wonderland-holiday-market
LOCATION:Winrock Park\, 2100 Louisiana Blvd NE\, Albuquerque\, NM\, 87110\, United States
END:VEVENT
BEGIN:VEVENT
DTSTART;TZID=UTC:20251129T160000
DTEND;TZID=UTC:20251129T200000
DTSTAMP:20260421T124736
CREATED:20250814T191216Z
LAST-MODIFIED:20251020T181221Z
UID:989999-1764432000-1764446400@www.airtings.com
SUMMARY:Winrock Wonderland Holiday Market
DESCRIPTION:A festive holiday market at Winrock Town Center featuring local vendors\, handmade gifts\, seasonal treats\, and cheerful activities for the whole family. A perfect place to shop small\, enjoy the holiday spirit\, and find unique treasures.
URL:https://www.airtings.com/calendar/winrock-wonderland-holiday-market-2
LOCATION:Winrock Park\, 2100 Louisiana Blvd NE\, Albuquerque\, NM\, 87110\, United States
END:VEVENT
END:VCALENDAR