BEGIN:VCALENDAR
VERSION:2.0
PRODID:-//Airtings - ECPv6.14.2//NONSGML v1.0//EN
CALSCALE:GREGORIAN
METHOD:PUBLISH
X-ORIGINAL-URL:https://www.airtings.com
X-WR-CALDESC:Events for Airtings
REFRESH-INTERVAL;VALUE=DURATION:PT1H
X-Robots-Tag:noindex
X-PUBLISHED-TTL:PT1H
BEGIN:VTIMEZONE
TZID:UTC
BEGIN:STANDARD
TZOFFSETFROM:+0000
TZOFFSETTO:+0000
TZNAME:UTC
DTSTART:20250101T000000
END:STANDARD
END:VTIMEZONE
BEGIN:VEVENT
DTSTART;TZID=UTC:20250816T080000
DTEND;TZID=UTC:20250816T120000
DTSTAMP:20260421T173731
CREATED:20250814T175611Z
LAST-MODIFIED:20250814T175611Z
UID:989985-1755331200-1755345600@www.airtings.com
SUMMARY:Downtown Growers Market
DESCRIPTION:Located in the heart of Albuquerque\, the Downtown Growers Market brings together local farmers\, food vendors\, and artisans every weekend. Visitors can enjoy fresh produce\, handmade goods\, live music\, and a vibrant community atmosphere—all while supporting local growers and small businesses.
URL:https://www.airtings.com/calendar/downtown-growers-market-2
LOCATION:Robinson park\, 810 Copper Ave NW\, Albuquerque\, NM\, 87102\, United States
END:VEVENT
BEGIN:VEVENT
DTSTART;TZID=UTC:20250817T100000
DTEND;TZID=UTC:20250817T140000
DTSTAMP:20260421T173731
CREATED:20250814T190337Z
LAST-MODIFIED:20250814T190337Z
UID:989987-1755424800-1755439200@www.airtings.com
SUMMARY:Railyards Market
DESCRIPTION:Held inside Albuquerque’s historic Rail Yards\, this market blends food\, art\, and community. Each Sunday\, visitors can explore local produce\, handmade crafts\, live music\, and family-friendly activities in a unique\, industrial setting that celebrates both culture and creativity.
URL:https://www.airtings.com/calendar/railyards-market-9
LOCATION:777 1st St SW\, Albuquerque\, NM 87102\, 777 1st St SW\, Albuquerque\, NM\, 87102\, United States
END:VEVENT
BEGIN:VEVENT
DTSTART;TZID=UTC:20250823T080000
DTEND;TZID=UTC:20250823T120000
DTSTAMP:20260421T173731
CREATED:20250814T190803Z
LAST-MODIFIED:20250814T190803Z
UID:989993-1755936000-1755950400@www.airtings.com
SUMMARY:Downtown Growers Market
DESCRIPTION:Located in the heart of Albuquerque\, the Downtown Growers Market brings together local farmers\, food vendors\, and artisans every weekend. Visitors can enjoy fresh produce\, handmade goods\, live music\, and a vibrant community atmosphere—all while supporting local growers and small businesses.
URL:https://www.airtings.com/calendar/downtown-growers-market-3
LOCATION:Robinson park\, 810 Copper Ave NW\, Albuquerque\, NM\, 87102\, United States
END:VEVENT
BEGIN:VEVENT
DTSTART;TZID=UTC:20250824T100000
DTEND;TZID=UTC:20250824T140000
DTSTAMP:20260421T173731
CREATED:20250814T190554Z
LAST-MODIFIED:20250814T190554Z
UID:989989-1756029600-1756044000@www.airtings.com
SUMMARY:Railyards Market
DESCRIPTION:Held inside Albuquerque’s historic Rail Yards\, this market blends food\, art\, and community. Each Sunday\, visitors can explore local produce\, handmade crafts\, live music\, and family-friendly activities in a unique\, industrial setting that celebrates both culture and creativity.
URL:https://www.airtings.com/calendar/railyards-market-10
LOCATION:777 1st St SW\, Albuquerque\, NM 87102\, 777 1st St SW\, Albuquerque\, NM\, 87102\, United States
END:VEVENT
BEGIN:VEVENT
DTSTART;TZID=UTC:20250830T080000
DTEND;TZID=UTC:20250830T120000
DTSTAMP:20260421T173731
CREATED:20250814T190849Z
LAST-MODIFIED:20250814T190849Z
UID:989995-1756540800-1756555200@www.airtings.com
SUMMARY:Downtown Growers Market
DESCRIPTION:Located in the heart of Albuquerque\, the Downtown Growers Market brings together local farmers\, food vendors\, and artisans every weekend. Visitors can enjoy fresh produce\, handmade goods\, live music\, and a vibrant community atmosphere—all while supporting local growers and small businesses.
URL:https://www.airtings.com/calendar/downtown-growers-market-4
LOCATION:NM
END:VEVENT
BEGIN:VEVENT
DTSTART;TZID=UTC:20250831T100000
DTEND;TZID=UTC:20250831T140000
DTSTAMP:20260421T173731
CREATED:20250814T190653Z
LAST-MODIFIED:20250814T190711Z
UID:989991-1756634400-1756648800@www.airtings.com
SUMMARY:Railyards Market
DESCRIPTION:Held inside Albuquerque’s historic Rail Yards\, this market blends food\, art\, and community. Each Sunday\, visitors can explore local produce\, handmade crafts\, live music\, and family-friendly activities in a unique\, industrial setting that celebrates both culture and creativity.
URL:https://www.airtings.com/calendar/railyards-market-11
LOCATION:777 1st St SW\, Albuquerque\, NM 87102\, 777 1st St SW\, Albuquerque\, NM\, 87102\, United States
END:VEVENT
END:VCALENDAR