BEGIN:VCALENDAR
VERSION:2.0
PRODID:-//Airtings - ECPv6.14.2//NONSGML v1.0//EN
CALSCALE:GREGORIAN
METHOD:PUBLISH
X-ORIGINAL-URL:https://www.airtings.com
X-WR-CALDESC:Events for Airtings
REFRESH-INTERVAL;VALUE=DURATION:PT1H
X-Robots-Tag:noindex
X-PUBLISHED-TTL:PT1H
BEGIN:VTIMEZONE
TZID:UTC
BEGIN:STANDARD
TZOFFSETFROM:+0000
TZOFFSETTO:+0000
TZNAME:UTC
DTSTART:20250101T000000
END:STANDARD
END:VTIMEZONE
BEGIN:VEVENT
DTSTART;TZID=UTC:20251206T080000
DTEND;TZID=UTC:20251206T160000
DTSTAMP:20260421T124522
CREATED:20251020T182351Z
LAST-MODIFIED:20251020T182351Z
UID:990016-1765008000-1765036800@www.airtings.com
SUMMARY:La Cueva Holiday Craft Fair
DESCRIPTION:Join Air Tings at the La Cueva Holiday Craft Fair\, one of Albuquerque’s favorite seasonal markets! Browse handcrafted gifts from local makers\, enjoy a festive community atmosphere\, and shop our signature air plant art\, holiday terrariums\, and nature-inspired décor — perfect for unique holiday gifting.
URL:https://www.airtings.com/calendar/la-cueva-holiday-craft-fair
LOCATION:La Cueva High School\, 7801 Wilshire Ave NE\, Albuquerque\, NM\, 87122
END:VEVENT
END:VCALENDAR