BEGIN:VCALENDAR
VERSION:2.0
PRODID:-//Airtings - ECPv6.14.2//NONSGML v1.0//EN
CALSCALE:GREGORIAN
METHOD:PUBLISH
X-WR-CALNAME:Airtings
X-ORIGINAL-URL:https://www.airtings.com
X-WR-CALDESC:Events for Airtings
REFRESH-INTERVAL;VALUE=DURATION:PT1H
X-Robots-Tag:noindex
X-PUBLISHED-TTL:PT1H
BEGIN:VTIMEZONE
TZID:UTC
BEGIN:STANDARD
TZOFFSETFROM:+0000
TZOFFSETTO:+0000
TZNAME:UTC
DTSTART:20250101T000000
END:STANDARD
END:VTIMEZONE
BEGIN:VEVENT
DTSTART;TZID=UTC:20251129T160000
DTEND;TZID=UTC:20251129T200000
DTSTAMP:20260421T141611
CREATED:20250814T191216Z
LAST-MODIFIED:20251020T181221Z
UID:989999-1764432000-1764446400@www.airtings.com
SUMMARY:Winrock Wonderland Holiday Market
DESCRIPTION:A festive holiday market at Winrock Town Center featuring local vendors\, handmade gifts\, seasonal treats\, and cheerful activities for the whole family. A perfect place to shop small\, enjoy the holiday spirit\, and find unique treasures.
URL:https://www.airtings.com/calendar/winrock-wonderland-holiday-market-2
LOCATION:Winrock Park\, 2100 Louisiana Blvd NE\, Albuquerque\, NM\, 87110\, United States
END:VEVENT
END:VCALENDAR