BEGIN:VCALENDAR
VERSION:2.0
PRODID:-//Airtings - ECPv6.14.2//NONSGML v1.0//EN
CALSCALE:GREGORIAN
METHOD:PUBLISH
X-ORIGINAL-URL:https://www.airtings.com
X-WR-CALDESC:Events for Airtings
REFRESH-INTERVAL;VALUE=DURATION:PT1H
X-Robots-Tag:noindex
X-PUBLISHED-TTL:PT1H
BEGIN:VTIMEZONE
TZID:UTC
BEGIN:STANDARD
TZOFFSETFROM:+0000
TZOFFSETTO:+0000
TZNAME:UTC
DTSTART:20250101T000000
END:STANDARD
END:VTIMEZONE
BEGIN:VEVENT
DTSTART;TZID=UTC:20251025T080000
DTEND;TZID=UTC:20251025T120000
DTSTAMP:20260421T155244
CREATED:20251020T182637Z
LAST-MODIFIED:20251020T182637Z
UID:990022-1761379200-1761393600@www.airtings.com
SUMMARY:Downtown Growers Market
DESCRIPTION:
URL:https://www.airtings.com/calendar/downtown-growers-market-5
LOCATION:Robinson park\, 810 Copper Ave NW\, Albuquerque\, NM\, 87102\, United States
END:VEVENT
END:VCALENDAR