BEGIN:VCALENDAR
VERSION:2.0
PRODID:-//Airtings - ECPv6.14.2//NONSGML v1.0//EN
CALSCALE:GREGORIAN
METHOD:PUBLISH
X-WR-CALNAME:Airtings
X-ORIGINAL-URL:https://www.airtings.com
X-WR-CALDESC:Events for Airtings
REFRESH-INTERVAL;VALUE=DURATION:PT1H
X-Robots-Tag:noindex
X-PUBLISHED-TTL:PT1H
BEGIN:VTIMEZONE
TZID:UTC
BEGIN:STANDARD
TZOFFSETFROM:+0000
TZOFFSETTO:+0000
TZNAME:UTC
DTSTART:20250101T000000
END:STANDARD
END:VTIMEZONE
BEGIN:VEVENT
DTSTART;TZID=UTC:20250823T080000
DTEND;TZID=UTC:20250823T120000
DTSTAMP:20260423T083725
CREATED:20250814T190803Z
LAST-MODIFIED:20250814T190803Z
UID:989993-1755936000-1755950400@www.airtings.com
SUMMARY:Downtown Growers Market
DESCRIPTION:Located in the heart of Albuquerque\, the Downtown Growers Market brings together local farmers\, food vendors\, and artisans every weekend. Visitors can enjoy fresh produce\, handmade goods\, live music\, and a vibrant community atmosphere—all while supporting local growers and small businesses.
URL:https://www.airtings.com/calendar/downtown-growers-market-3
LOCATION:Robinson park\, 810 Copper Ave NW\, Albuquerque\, NM\, 87102\, United States
END:VEVENT
END:VCALENDAR